BEGIN:VCALENDAR
VERSION:2.0
PRODID:-//Anantbodh Yoga - ECPv6.15.20//NONSGML v1.0//EN
CALSCALE:GREGORIAN
METHOD:PUBLISH
X-ORIGINAL-URL:https://www.anantbodhyoga.com
X-WR-CALDESC:Events for Anantbodh Yoga
REFRESH-INTERVAL;VALUE=DURATION:PT1H
X-Robots-Tag:noindex
X-PUBLISHED-TTL:PT1H
BEGIN:VTIMEZONE
TZID:UTC
BEGIN:STANDARD
TZOFFSETFROM:+0000
TZOFFSETTO:+0000
TZNAME:UTC
DTSTART:20200101T000000
END:STANDARD
END:VTIMEZONE
BEGIN:VTIMEZONE
TZID:UTC
BEGIN:STANDARD
TZOFFSETFROM:+0000
TZOFFSETTO:+0000
TZNAME:UTC
DTSTART:20200101T000000
END:STANDARD
END:VTIMEZONE
BEGIN:VEVENT
DTSTART;TZID=UTC:20210606T180000
DTEND;TZID=UTC:20210606T180000
DTSTAMP:20260421T170649
CREATED:20191030T150337Z
LAST-MODIFIED:20241105T113819Z
UID:417-1623002400-1623002400@www.anantbodhyoga.com
SUMMARY:Agnihotra With Anantbodh
DESCRIPTION:OverviewAgnihotra is the process of purification of the atmosphere & the self. The fire prepared in a copper pyramid\, at the time of sunset and sunrise couple of mantras are chanted and whole grains are offed into the fire. The phenomenal explosion of divine energies occur. This energy release happens because of the combination of the following five. \nAgnihotra is the only effective tool that we have\, to produce this harmony between the mind\, body\, and the universe. Agnihotra is a material aid to a happy life. Intense energy is projected from the Agnihotra pot. This energy envelops the solar system\, the stratosphere and beyond. Harmful radiation & pollutants are neutralized and transformed into nourishment on a subtle level. \nAgnihotra not only renews the brain cells but purifies the whole psychosomatic man in a holistic way. Harmful radiations of all sorts are neutralized when one is in Agnihotra environment. Agnihotra realigns the nature and all pulmonary and circulatory systems and has a nourishing effect on nature along with the nervous system. When plants are in Agnihotra environment extraordinary growth of the whole ecology along with flowers and fruits is of common happening. \nAgnihotra ScheduleAgnihotra will be organized by namai pasauliui\, všį\, jonava. It will be free of cost. Everyone are welcome. \nLight Breathing ExercisesMeditation IntroductionCorrect Stretching MethodsBasic PosesMantras\nbook now\n									\n									\n									\n									\n								 10% Off YOUR FIRST SESSION \nYour NameEmailTelephoneLocationClassFreshers WorkshopIntermediate WorkshopAdvanced WorkshopYoga For ChildrenOutdoor YogaMeditation ClassMudra Therapy WorkshopMarma Therapy WorkshopAgnihotra EventAsthma Management  MessageBook Now×Thank you for your message. It has been sent.×There was an error trying to send your message. Please try again later. 10% Off YOUR FIRST SESSION \nYour NameEmailTelephoneLocationClassFreshers WorkshopIntermediate WorkshopAdvanced WorkshopYoga For ChildrenOutdoor YogaMeditation ClassMudra Therapy WorkshopMarma Therapy WorkshopAgnihotra EventAsthma Management  MessageBook Now×Thank you for your message. It has been sent.×There was an error trying to send your message. Please try again later.\n									\n									\n									\n									\n								MEET OUR \nTEAM Anantbodh Chaitanya Shri Anantbodh Chaitanya is Founder Director of Anantbodh Yoga Studio. \nMeet Anant  Swami Sharad Puri Swami Sharad Puri Ji is an Educationalist & Chief Patron of our Organization. \nMeet Swami  Yogini Anantanitya Yogini Anantanitya is a Co-Founder of Anantbodh Yoga & Teacher Trainer. \nMeet Yogini\nWHY NOT BOOK A \n  Online classes JOIN US ON SKYPE
URL:https://www.anantbodhyoga.com/event/agnihotra-with-anantbodh-chaitanya/
CATEGORIES:Agnihotra,Outdoor
ATTACH;FMTTYPE=image/jpeg:https://www.anantbodhyoga.com/wp-content/uploads/2019/10/Yagya_Anantbodh_Chaitanya-e1730806684206.jpg
ORGANIZER;CN="Anantbodh Yoga":MAILTO:anantbodhyoga@gmail.com
END:VEVENT
BEGIN:VEVENT
DTSTART;TZID=UTC:20210528T080000
DTEND;TZID=UTC:20210528T170000
DTSTAMP:20260421T170649
CREATED:20191030T133146Z
LAST-MODIFIED:20241105T102234Z
UID:403-1622188800-1622221200@www.anantbodhyoga.com
SUMMARY:Asthma Management
DESCRIPTION:OverviewAsthma is a disease that causes immense discomfort and suffering. The patient suffers from difficulty in breathing\, suffocation\, coughing etc. because the respiratory tracks inside the lungs contract due to asthma. As the inhaled air passes through contracted tubes with increased velocity\, sounds like whistle can be heard while breathing. This is called ‘wheezing’. The respiratory tubes get narrowed and obstructed because of excessive secretion of thick phlegm. A highly aggravated condition of asthma is called Statutes Asthmatics. This can prove to be very severe and may even lead to death. \nOne of the first steps in managing asthma is for the affected person and their family and friends to understand all about asthma and how to manage it. It is also important to be properly diagnosed and have the severity of asthma determined by a doctor. With correct diagnosis and management\, a person with asthma should be able to live an active\, full life\, controlling asthma rather than asthma controlling them. \nYoga is a system inclusive of physical and mental training that can benefit people of all ages. It involves Asanas (body postures) and Pranayama (the art of breath control)\, among which of its physical uses are to reduce stress-related conditions\, help with circulatory and respiratory disorders such as Asthma and Bronchitis\, and improve overall health. Here I am suggesting some helpful Yoga Asana (Postures) Mudras (Gestures)\, Marmas (Healing points in Body)\, Breathing practices and daily routine changes in our lifestyle to manage asthma. \nWorkshop ScheduleShri Anantbodh Chaitanya will talk about some special tequenics what can be helpful to manage Ashthma. Time: 7Pm \nLight Breathing ExercisesMeditation IntroductionCorrect Stretching MethodsBasic PosesMantrasbook now\n									\n									\n									\n									\n								 10% Off YOUR FIRST SESSION \nYour NameEmailTelephoneLocationClassFreshers WorkshopIntermediate WorkshopAdvanced WorkshopYoga For ChildrenOutdoor YogaMeditation ClassMudra Therapy WorkshopMarma Therapy WorkshopAgnihotra EventAsthma Management  MessageBook Now×Thank you for your message. It has been sent.×There was an error trying to send your message. Please try again later. 10% Off YOUR FIRST SESSION \nYour NameEmailTelephoneLocationClassFreshers WorkshopIntermediate WorkshopAdvanced WorkshopYoga For ChildrenOutdoor YogaMeditation ClassMudra Therapy WorkshopMarma Therapy WorkshopAgnihotra EventAsthma Management  MessageBook Now×Thank you for your message. It has been sent.×There was an error trying to send your message. Please try again later.\n									\n									\n									\n									\n								MEET OUR \nTEAM Anantbodh Chaitanya Shri Anantbodh Chaitanya is Founder Director of Anantbodh Yoga Studio. \nMeet Anant  Swami Sharad Puri Swami Sharad Puri Ji is an Educationalist & Chief Patron of our Organization. \nMeet Swami  Yogini Anantanitya Yogini Anantanitya is a Co-Founder of Anantbodh Yoga & Teacher Trainer. \nMeet Yogini\nWHY NOT BOOK A \n  Online classes JOIN US ON SKYPE
URL:https://www.anantbodhyoga.com/event/asthma-management-workshop/
LOCATION:Anantbodh Yoga\, 93\, Kauno g\, Jonava\, 55179\, Lithuania
CATEGORIES:Asthma Management,Beginners
ATTACH;FMTTYPE=image/jpeg:https://www.anantbodhyoga.com/wp-content/uploads/2019/09/anantbodhyoga1.jpg
ORGANIZER;CN="Anantbodh Yoga":MAILTO:anantbodhyoga@gmail.com
END:VEVENT
BEGIN:VEVENT
DTSTART;TZID=UTC:20210504T190000
DTEND;TZID=UTC:20210504T200000
DTSTAMP:20260421T170649
CREATED:20191104T083701Z
LAST-MODIFIED:20241105T103420Z
UID:535-1620154800-1620158400@www.anantbodhyoga.com
SUMMARY:Marma Therapy Workshop
DESCRIPTION:OverviewThe Marmas are a very important part of the anatomy and surgery Ayurveda. A Marma point is defined as an anatomical site in which muscles\, arteries\, tendons\, bones and joints meet. By definition\, a Marma point is a point of the body in which two or more types of tissue meet. There are 107 Marma points throughout the body. Each point has its own intelligence and consciousness\, which coordinates the mind and body. \nThis ancient form of treatment dating back between the 1500 – 1200 BC involves the use of fingers to stimulate the Marma points thereby promoting the physical and mental rehabilitation. As with acupuncture\, these points correspond to the internal organs and body systems that respond to manual stimulation. \nThis balancing treatment focused on releasing energy blocks in the body and mind. Using essential oils or and transdermal herbal pastes\, Marma points are gently massaged to balance the flow of energy. Marma therapy is tailored to your individual dosha balancing needs. Prana is simply the vibrational electromagnetic energy of nature. Prana is what sustains us. There is nothing mystical about this energy. We see it all around us. \nThe primary purpose is to promote the flow of Prana in the body-mind. Marma points are switches that when opened up\, allow for the increased flow of energy. Through the gentle application of transdermal herbs\, essential oils and light touch\, the Marma points are awakened. One feels an abiding connection in rejuvenating stillness. Marma therapy balances the flow of energy through the muscles\, joints and organs of the body. \nMarma therapy is an important tool for preventing and treating imbalances in Ayurveda. Treatment is based according to the unique needs of the client. Marma therapy balances the dosha\, increase digestive fire\, detoxification\, reducing ama\, promote energy and rejuvenation. It can be part of Panch karma a single or combination treatment\, and also part of our daily wellness plan. \nWorkshop ScheduleThis Marma Therapy workshop will start on 7 Pm at Anantbodh Yoga Studio. So come &  learn the ancient tequnics of India \nLight Breathing ExercisesMeditation IntroductionCorrect Stretching MethodsBasic PosesMantras\nbook now\n									\n									\n									\n									\n								 10% Off YOUR FIRST SESSION \nYour NameEmailTelephoneLocationClassFreshers WorkshopIntermediate WorkshopAdvanced WorkshopYoga For ChildrenOutdoor YogaMeditation ClassMudra Therapy WorkshopMarma Therapy WorkshopAgnihotra EventAsthma Management  MessageBook Now×Thank you for your message. It has been sent.×There was an error trying to send your message. Please try again later. 10% Off YOUR FIRST SESSION \nYour NameEmailTelephoneLocationClassFreshers WorkshopIntermediate WorkshopAdvanced WorkshopYoga For ChildrenOutdoor YogaMeditation ClassMudra Therapy WorkshopMarma Therapy WorkshopAgnihotra EventAsthma Management  MessageBook Now×Thank you for your message. It has been sent.×There was an error trying to send your message. Please try again later.\n									\n									\n									\n									\n								MEET OUR \nTEAM Anantbodh Chaitanya Shri Anantbodh Chaitanya is Founder Director of Anantbodh Yoga Studio. \nMeet Anant  Swami Sharad Puri Swami Sharad Puri Ji is an Educationalist & Chief Patron of our Organization. \nMeet Swami  Yogini Anantanitya Yogini Anantanitya is a Co-Founder of Anantbodh Yoga & Teacher Trainer. \nMeet Yogini\nWHY NOT BOOK A \n  Online classes JOIN US ON SKYPE
URL:https://www.anantbodhyoga.com/event/marma-therapy-workshop/
LOCATION:Anantbodh Yoga\, 93\, Kauno g\, Jonava\, 55179\, Lithuania
CATEGORIES:Marma Therapy
ATTACH;FMTTYPE=image/jpeg:https://www.anantbodhyoga.com/wp-content/uploads/2019/11/Anantnityayogasilai.jpg
ORGANIZER;CN="Anantbodh Yoga":MAILTO:anantbodhyoga@gmail.com
END:VEVENT
BEGIN:VEVENT
DTSTART;TZID=UTC:20210503T180000
DTEND;TZID=UTC:20210503T190000
DTSTAMP:20260421T170649
CREATED:20191104T084440Z
LAST-MODIFIED:20210130T123611Z
UID:539-1620064800-1620068400@www.anantbodhyoga.com
SUMMARY:Children's Classes
DESCRIPTION:OverviewYoga can be a great way to inspire both children and adults to move their bodies. It can develop strength\, flexibility\, balance\, and coordination\, as well as focus and calming. Best of all\, it can be done at home\, indoors! Join us for this event with your family as we stretch and move our bodies! Yoga is for everyone and every BODY; no experience necessary and all shapes\, sizes\, and abilities are welcomed.\nMeeting children where they are at\, trusting that all children are capable of learning to find a place of calm within themselves\, providing a safe and loving space and giving them the support that meets their individual needs through practising yoga.\nThe use of song and sound\, breathing techniques\, body awareness through tapping\, massage and therapeutic yoga poses\, as well as self-regulation and relaxation techniques\, are methods that Tanja applies in this therapeutic yoga class for children.  As this class takes place online\, it is recommended that parents are present with their child/children to support them throughout the class. This class is suitable for all abilities.\nA yoga mat or any non-slip surface\, pillows\, blankets and space to comfortably move in is all you need for this class. \nClass ScheduleThis class will be online through Xoom platform. Class will start 7 Pm. \nLight Breathing ExercisesMeditation IntroductionCorrect Stretching MethodsBasic PosesMantras\nbook now\n									\n									\n									\n									\n								 10% Off YOUR FIRST SESSION \nYour NameEmailTelephoneLocationClassFreshers WorkshopIntermediate WorkshopAdvanced WorkshopYoga For ChildrenOutdoor YogaMeditation ClassMudra Therapy WorkshopMarma Therapy WorkshopAgnihotra EventAsthma Management  MessageBook Now×Thank you for your message. It has been sent.×There was an error trying to send your message. Please try again later. 10% Off YOUR FIRST SESSION \nYour NameEmailTelephoneLocationClassFreshers WorkshopIntermediate WorkshopAdvanced WorkshopYoga For ChildrenOutdoor YogaMeditation ClassMudra Therapy WorkshopMarma Therapy WorkshopAgnihotra EventAsthma Management  MessageBook Now×Thank you for your message. It has been sent.×There was an error trying to send your message. Please try again later.\n									\n									\n									\n									\n								MEET OUR \nTEAM Anantbodh Chaitanya Shri Anantbodh Chaitanya is Founder Director of Anantbodh Yoga Studio. \nMeet Anant  Swami Sharad Puri Swami Sharad Puri Ji is an Educationalist & Chief Patron of our Organization. \nMeet Swami  Yogini Anantanitya Yogini Anantanitya is a Co-Founder of Anantbodh Yoga & Teacher Trainer. \nMeet Yogini\nWHY NOT BOOK A \n  Online classes JOIN US ON SKYPE\n \n 
URL:https://www.anantbodhyoga.com/event/childrens-classes/
CATEGORIES:Children
ATTACH;FMTTYPE=image/jpeg:https://www.anantbodhyoga.com/wp-content/uploads/2019/11/Deva-Meditation.jpg
ORGANIZER;CN="Anantbodh Yoga":MAILTO:anantbodhyoga@gmail.com
END:VEVENT
BEGIN:VEVENT
DTSTART;TZID=UTC:20210405T190000
DTEND;TZID=UTC:20210405T200000
DTSTAMP:20260421T170649
CREATED:20191104T091855Z
LAST-MODIFIED:20210130T121510Z
UID:543-1617649200-1617652800@www.anantbodhyoga.com
SUMMARY:Meditation Class
DESCRIPTION:OverviewMeditation is a state of being in which there are choiceless and effortless awareness and absence of mental activity. It is inhibited\, unconditioned movement of individual consciousness in harmony with universal consciousness and transcendental consciousness. It is a non-cerebral movement and free from the conditioned brain cultivated by education\, civil society\, religion\, custom\, dogma\, belief etc. It is\, thus\, a transcendence of conditionings of brain and mind. It is a pure state of being\, full of delight\, beauty\, energy\, love and compassion and knowledge. \nMeditation is a Timeless\, Thoughtless and Spaceless Awareness. Where there is thought\, there is time and space. Thought always moves in time and space. It is a state in which past\, present and future dissolve resulting in an awareness of time-space continuum. In fact\, timeless movement is the state of awareness in which there is the death of the mind.  Meditation is the state of the whole being\, whole life\, neither exclusively of mind and its movement\, nor brain and its brain activities\, nor to the body and its activities. \nMeditation is the State of No-Mind. The mind cannot resolve the problems created by the mind\, Mind perceives\, judges\, plans\, thinks etc. all in the field of thought. It enjoys its movement in a linear fashion that again is within the structure of thoughts. Mind as such cannot live without thought so. The thought is the result of separative action of mind into subjective and objective aspects. The mind is the power of ignorance seeking for truth reaching only mental constructions and representations of it in word idea. \nClass ScheduleClass will start 7 pm in evening at our Anantbodh Yoga studio\, Jonava. \nLight Breathing ExercisesMeditation IntroductionCorrect Stretching MethodsBasic PosesMantras\nbook now\n									\n									\n									\n									\n								 10% Off YOUR FIRST SESSION \nYour NameEmailTelephoneLocationClassFreshers WorkshopIntermediate WorkshopAdvanced WorkshopYoga For ChildrenOutdoor YogaMeditation ClassMudra Therapy WorkshopMarma Therapy WorkshopAgnihotra EventAsthma Management  MessageBook Now×Thank you for your message. It has been sent.×There was an error trying to send your message. Please try again later. 10% Off YOUR FIRST SESSION \nYour NameEmailTelephoneLocationClassFreshers WorkshopIntermediate WorkshopAdvanced WorkshopYoga For ChildrenOutdoor YogaMeditation ClassMudra Therapy WorkshopMarma Therapy WorkshopAgnihotra EventAsthma Management  MessageBook Now×Thank you for your message. It has been sent.×There was an error trying to send your message. Please try again later.\n									\n									\n									\n									\n								MEET OUR \nTEAM Anantbodh Chaitanya Shri Anantbodh Chaitanya is Founder Director of Anantbodh Yoga Studio. \nMeet Anant  Swami Sharad Puri Swami Sharad Puri Ji is an Educationalist & Chief Patron of our Organization. \nMeet Swami  Yogini Anantanitya Yogini Anantanitya is a Co-Founder of Anantbodh Yoga & Teacher Trainer. \nMeet Yogini\nWHY NOT BOOK A \n  Online classes JOIN US ON SKYPE\n \n 
URL:https://www.anantbodhyoga.com/event/meditation-class/
LOCATION:Anantbodh Yoga\, 93\, Kauno g\, Jonava\, 55179\, Lithuania
CATEGORIES:Workshop
ATTACH;FMTTYPE=image/jpeg:https://www.anantbodhyoga.com/wp-content/uploads/2019/11/pexels-prasanth-inturi-1051838-1.jpg
ORGANIZER;CN="Anantbodh Yoga":MAILTO:anantbodhyoga@gmail.com
END:VEVENT
BEGIN:VEVENT
DTSTART;TZID=UTC:20210305T190000
DTEND;TZID=UTC:20210305T203000
DTSTAMP:20260421T170649
CREATED:20191030T151344Z
LAST-MODIFIED:20241105T102046Z
UID:421-1614970800-1614976200@www.anantbodhyoga.com
SUMMARY:Mudra Therapy Workshop
DESCRIPTION:OverviewThe Mudras are an Important part of Yoga. It is based on the fundamental principles of life\, the five elements namely Fire\, Space\, Wind\, Earth and Water. Balance of these elements establishes health and imbalance cause diseases. The diet\, lifestyle and stresses of life\, lure body and mind away from equilibrium. This causes disturbance in the five elements\, hence invite diseases. Mudras arrest electromagnetic power emitted continuously through our fingertips and maintain equilibrium in the body elements that result in a healthy life. They are mainly performed as gestures by fingers\, hand positions and also in combination with asanas. With the right positioning for prescribed periods\, Mudras can rejuvenate the body\, heal diseases and also help in spiritual awakening. Mudras are not only therapeutic but also prevent ailments. They are very effective. \nMudras are symbolic or ritual gestures in Hinduism and Buddhism. It’s an ancient science based on the energy of our body.  According to the Science of Mudra\, the secret of good health lies in the hands\, fingers and Mudras which can be performed with the help of fingers.  A particular kind of energy or Electro-Magnetic waves or the electricity of the body (aura)\, is continuously emitted from our hands. We can heal our self by practising of some Mudras.  Daily practice of Mudras is an effective intervention in the treatment and management of back pain\, joint pain\, tinnitus\, allergies and exhaustion. These Mudras do not require a dedicated place of practice\, nor require any specialized equipment or resources and are easy to perform and non-inventiveness\, they are a promising intervention for the treatment of a variety of health conditions. In Yoga Mudras are used in conjunction with pranayama (yogic breathing exercises)\, generally while seated in Padmasana\, Sukhasana or Vajrasana pose\, to stimulate different parts of the body and mind\, and to affect the flow of Prana in the body. We have five kinds of Mudras Hasta\, Mana\, Kaya\, Bandha and Adhara Mudras. \n\nThis workshop of Mudras Therapy will give you & your loved ones a practical aid in healing minor & major complaints. Most health disorders\, whether on the physical or the mental-emotional level\, develop from a lack of inner and outer repose and/or too much stress or worry.\n\n\n  \n\n\n\nLight Breathing ExercisesMeditation IntroductionCorrect Stretching MethodsBasic PosesMantrasVideo PreviewSorry\, your browser doesn't support embedded videos.\nbook now\n									\n									\n									\n									\n								 10% Off YOUR FIRST SESSION \nYour NameEmailTelephoneLocationClassFreshers WorkshopIntermediate WorkshopAdvanced WorkshopYoga For ChildrenOutdoor YogaMeditation ClassMudra Therapy WorkshopMarma Therapy WorkshopAgnihotra EventAsthma Management  MessageBook Now×Thank you for your message. It has been sent.×There was an error trying to send your message. Please try again later. 10% Off YOUR FIRST SESSION \nYour NameEmailTelephoneLocationClassFreshers WorkshopIntermediate WorkshopAdvanced WorkshopYoga For ChildrenOutdoor YogaMeditation ClassMudra Therapy WorkshopMarma Therapy WorkshopAgnihotra EventAsthma Management  MessageBook Now×Thank you for your message. It has been sent.×There was an error trying to send your message. Please try again later.\n									\n									\n									\n									\n								MEET OUR \nTEAM Anantbodh Chaitanya Shri Anantbodh Chaitanya is Founder Director of Anantbodh Yoga Studio. \nMeet Anant  Swami Sharad Puri Swami Sharad Puri Ji is an Educationalist & Chief Patron of our Organization. \nMeet Swami  Yogini Anantanitya Yogini Anantanitya is a Co-Founder of Anantbodh Yoga & Teacher Trainer. \nMeet Yogini\nWHY NOT BOOK A \n  Online classes JOIN US ON SKYPE
URL:https://www.anantbodhyoga.com/event/mudra-therapy-by-anantbodh-chaitanya/
LOCATION:Anantbodh Yoga\, 93\, Kauno g\, Jonava\, 55179\, Lithuania
CATEGORIES:Mudra Therapy
ATTACH;FMTTYPE=image/jpeg:https://www.anantbodhyoga.com/wp-content/uploads/2021/01/2014-05-03_02.51.11_1-1.jpg
ORGANIZER;CN="Anantbodh Yoga":MAILTO:anantbodhyoga@gmail.com
END:VEVENT
END:VCALENDAR