BEGIN:VCALENDAR
VERSION:2.0
PRODID:-//Anantbodh Yoga - ECPv6.15.20//NONSGML v1.0//EN
CALSCALE:GREGORIAN
METHOD:PUBLISH
X-WR-CALNAME:Anantbodh Yoga
X-ORIGINAL-URL:https://www.anantbodhyoga.com
X-WR-CALDESC:Events for Anantbodh Yoga
REFRESH-INTERVAL;VALUE=DURATION:PT1H
X-Robots-Tag:noindex
X-PUBLISHED-TTL:PT1H
BEGIN:VTIMEZONE
TZID:UTC
BEGIN:STANDARD
TZOFFSETFROM:+0000
TZOFFSETTO:+0000
TZNAME:UTC
DTSTART:20200101T000000
END:STANDARD
END:VTIMEZONE
BEGIN:VEVENT
DTSTART;TZID=UTC:20210503T180000
DTEND;TZID=UTC:20210503T190000
DTSTAMP:20260421T170041
CREATED:20191104T084440Z
LAST-MODIFIED:20210130T123611Z
UID:539-1620064800-1620068400@www.anantbodhyoga.com
SUMMARY:Children's Classes
DESCRIPTION:OverviewYoga can be a great way to inspire both children and adults to move their bodies. It can develop strength\, flexibility\, balance\, and coordination\, as well as focus and calming. Best of all\, it can be done at home\, indoors! Join us for this event with your family as we stretch and move our bodies! Yoga is for everyone and every BODY; no experience necessary and all shapes\, sizes\, and abilities are welcomed.\nMeeting children where they are at\, trusting that all children are capable of learning to find a place of calm within themselves\, providing a safe and loving space and giving them the support that meets their individual needs through practising yoga.\nThe use of song and sound\, breathing techniques\, body awareness through tapping\, massage and therapeutic yoga poses\, as well as self-regulation and relaxation techniques\, are methods that Tanja applies in this therapeutic yoga class for children.  As this class takes place online\, it is recommended that parents are present with their child/children to support them throughout the class. This class is suitable for all abilities.\nA yoga mat or any non-slip surface\, pillows\, blankets and space to comfortably move in is all you need for this class. \nClass ScheduleThis class will be online through Xoom platform. Class will start 7 Pm. \nLight Breathing ExercisesMeditation IntroductionCorrect Stretching MethodsBasic PosesMantras\nbook now\n									\n									\n									\n									\n								 10% Off YOUR FIRST SESSION \nYour NameEmailTelephoneLocationClassFreshers WorkshopIntermediate WorkshopAdvanced WorkshopYoga For ChildrenOutdoor YogaMeditation ClassMudra Therapy WorkshopMarma Therapy WorkshopAgnihotra EventAsthma Management  MessageBook Now×Thank you for your message. It has been sent.×There was an error trying to send your message. Please try again later. 10% Off YOUR FIRST SESSION \nYour NameEmailTelephoneLocationClassFreshers WorkshopIntermediate WorkshopAdvanced WorkshopYoga For ChildrenOutdoor YogaMeditation ClassMudra Therapy WorkshopMarma Therapy WorkshopAgnihotra EventAsthma Management  MessageBook Now×Thank you for your message. It has been sent.×There was an error trying to send your message. Please try again later.\n									\n									\n									\n									\n								MEET OUR \nTEAM Anantbodh Chaitanya Shri Anantbodh Chaitanya is Founder Director of Anantbodh Yoga Studio. \nMeet Anant  Swami Sharad Puri Swami Sharad Puri Ji is an Educationalist & Chief Patron of our Organization. \nMeet Swami  Yogini Anantanitya Yogini Anantanitya is a Co-Founder of Anantbodh Yoga & Teacher Trainer. \nMeet Yogini\nWHY NOT BOOK A \n  Online classes JOIN US ON SKYPE\n \n 
URL:https://www.anantbodhyoga.com/event/childrens-classes/
CATEGORIES:Children
ATTACH;FMTTYPE=image/jpeg:https://www.anantbodhyoga.com/wp-content/uploads/2019/11/Deva-Meditation.jpg
ORGANIZER;CN="Anantbodh Yoga":MAILTO:anantbodhyoga@gmail.com
END:VEVENT
END:VCALENDAR